BEGIN:VCALENDAR
VERSION:2.0
PRODID:SchoolNow
CALSCALE:GREGORIAN
BEGIN:VEVENT
UID:04fea4be-97ce-11f0-ad40-0a58a9feac02
DTSTAMP:20250923T125136Z
SUMMARY:CDD Board Meeting - Jul. 2025
LOCATION:6801 Colonial Lake Dr. Riverview\, FL 33578
URL;VALUE=URI:https://www.lakestcharles.org/calendar/8653027/cdd-board-meet
 ing-jul-2025
DTSTART:20260701T210000Z
DTEND:20260701T230000Z
END:VEVENT
END:VCALENDAR
