BEGIN:VCALENDAR
VERSION:2.0
PRODID:SchoolNow
CALSCALE:GREGORIAN
BEGIN:VEVENT
UID:e3707a66-97cd-11f0-890a-0a58a9feac02
DTSTAMP:20260304T185759Z
SUMMARY:CDD Board Meeting - Mar. 2025
LOCATION:6801 Colonial Lake Dr. Riverview\, FL 33578
URL;VALUE=URI:https://www.lakestcharles.org/calendar/8653023/cdd-board-meet
 ing-mar-2025
DTSTART:20260304T220000Z
DTEND:20260305T000000Z
ATTACH;FILENAME=2026-03-04- Lake St Charles CDD - Revised Final Agenda.pdf;
 FMTTYPE=application/pdf:https://campussuite-storage.s3.amazonaws.com/prod/
 1558814/4c63d158-ac98-11e9-859c-0af81b81c350/3076964/e8d32dec-17fb-11f1-81
 e7-0a58a9feac02/file/2026-03-04- Lake St Charles CDD - Revised Final Agend
 a.pdf
END:VEVENT
END:VCALENDAR
