BEGIN:VCALENDAR
VERSION:2.0
PRODID:SchoolNow
CALSCALE:GREGORIAN
BEGIN:VEVENT
UID:db036ffa-97cd-11f0-8adf-0affe8c34af9
DTSTAMP:20260202T163226Z
SUMMARY:CDD Board Meeting - Feb. 2025
LOCATION:6801 Colonial Lake Dr. Riverview\, FL 33578
URL;VALUE=URI:https://www.lakestcharles.org/calendar/8653022/cdd-board-meet
 ing-feb-2025
DTSTART:20260204T220000Z
DTEND:20260205T000000Z
ATTACH;FILENAME=2026-02-04- Lake St Charles CDD- Revised Final Agenda.pdf;F
 MTTYPE=application/pdf:https://campussuite-storage.s3.amazonaws.com/prod/1
 558814/4c63d158-ac98-11e9-859c-0af81b81c350/3065884/a621340e-fe14-11f0-91a
 d-0a58a9feac02/file/2026-02-04- Lake St Charles CDD- Revised Final Agenda.
 pdf
END:VEVENT
END:VCALENDAR
