BEGIN:VCALENDAR
VERSION:2.0
PRODID:SchoolNow
CALSCALE:GREGORIAN
BEGIN:VEVENT
UID:61fa9e28-81ab-11ef-ab63-0a58a9feac02
DTSTAMP:20241128T042204Z
SUMMARY:HOA Meeting
URL;VALUE=URI:https://www.lakestcharles.org/calendar/6748245/hoa-meeting
DTSTART:20250310T223000Z
DTEND:20250310T233000Z
END:VEVENT
END:VCALENDAR
