BEGIN:VCALENDAR
VERSION:2.0
PRODID:SchoolNow
CALSCALE:GREGORIAN
BEGIN:VEVENT
UID:eea20d30-81a0-11ef-864f-0ebe7c07b0ff
DTSTAMP:20250403T191121Z
SUMMARY:CDD Board Meeting (Cancelled Due to Lack of Quorum)
URL;VALUE=URI:https://www.lakestcharles.org/calendar/6748107/cdd-board-meet
 ing
DTSTART:20250506T230000Z
DTEND:20250507T010000Z
END:VEVENT
END:VCALENDAR
