BEGIN:VCALENDAR
VERSION:2.0
PRODID:SchoolNow
CALSCALE:GREGORIAN
BEGIN:VEVENT
UID:45ffb94e-93b1-11ee-97d0-0a84b2ce8d59
DTSTAMP:20240503T192220Z
SUMMARY:CDD Board Meeting
URL;VALUE=URI:https://www.lakestcharles.org/calendar/4983872/cdd-board-meet
 ing-aug-2021-clone-clone-clone-clone-clone-clone-clone-clone-clone-clone-c
 lone-clone-clone-clone
DTSTART:20240507T230000Z
DTEND:20240508T010000Z
ATTACH;FILENAME=2024-05-07 Agenda.pdf;FMTTYPE=application/pdf:https://campu
 ssuite-storage.s3.amazonaws.com/prod/1558814/4c63d158-ac98-11e9-859c-0af81
 b81c350/2778984/2469cfee-076b-11ef-b87f-0a58a9feac02/file/2024-05-07 Agend
 a.pdf
ATTACH;FILENAME=2024-04-02 BOS Meeting Minutes.pdf;FMTTYPE=application/pdf:
 https://campussuite-storage.s3.amazonaws.com/prod/1558814/4c63d158-ac98-11
 e9-859c-0af81b81c350/2780914/4bcb42e8-0982-11ef-a546-02f6d10f2f09/file/202
 4-04-02 BOS Meeting Minutes.pdf
ATTACH;FILENAME=2024-05-07 Supervisor Packet.pdf;FMTTYPE=application/pdf:ht
 tps://campussuite-storage.s3.amazonaws.com/prod/1558814/4c63d158-ac98-11e9
 -859c-0af81b81c350/2780915/5f6933dc-0982-11ef-a001-0affc25afebd/file/2024-
 05-07 Supervisor Packet.pdf
END:VEVENT
END:VCALENDAR
