BEGIN:VCALENDAR
VERSION:2.0
PRODID:SchoolNow
CALSCALE:GREGORIAN
BEGIN:VEVENT
UID:607cdd50-2a13-11ed-8908-0ac8dabfe0c5
DTSTAMP:20220901T163022Z
SUMMARY:All Day Clubhouse Rental
URL;VALUE=URI:https://www.lakestcharles.org/calendar/3329085/all-day-clubho
 use-rental-clone-clone-clone-clone-clone-clone-clone
DTSTART:20210911T120000Z
DTEND:20210912T020000Z
END:VEVENT
END:VCALENDAR
