BEGIN:VCALENDAR
VERSION:2.0
PRODID:SchoolNow
CALSCALE:GREGORIAN
BEGIN:VEVENT
UID:45874e82-4a16-11ec-8123-0e7114e9716d
DTSTAMP:20211120T152645Z
SUMMARY:Strategic Planning Committee Meeting
URL;VALUE=URI:https://www.lakestcharles.org/calendar/2904291/strategic-plan
 ning-committee-sept-2021-clone-clone-clone-clone
DTSTART:20211116T150000Z
DTEND:20211116T160000Z
END:VEVENT
END:VCALENDAR
