BEGIN:VCALENDAR
VERSION:2.0
PRODID:SchoolNow
CALSCALE:GREGORIAN
BEGIN:VEVENT
UID:a3889258-4a15-11ec-a3d4-0e7114e9716d
DTSTAMP:20211120T152214Z
SUMMARY:Villa's HOA Meeting
URL;VALUE=URI:https://www.lakestcharles.org/calendar/2904287/cdd-board-meet
 ing-aug-2021-clone-clone-clone-clone
DTSTART:20211201T000000Z
DTEND:20211201T010000Z
END:VEVENT
END:VCALENDAR
