BEGIN:VCALENDAR
VERSION:2.0
PRODID:SchoolNow
CALSCALE:GREGORIAN
BEGIN:VEVENT
UID:f55ea392-3cbe-11ec-91ca-0e891d80f75d
DTSTAMP:20211103T155859Z
SUMMARY:Grounds/Security Meeting
URL;VALUE=URI:https://www.lakestcharles.org/calendar/2865915/grounds-securi
 ty-mtg-oct-2021-clone
DTSTART:20211118T210000Z
DTEND:20211118T220000Z
END:VEVENT
END:VCALENDAR
