BEGIN:VCALENDAR
VERSION:2.0
PRODID:SchoolNow
CALSCALE:GREGORIAN
BEGIN:VEVENT
UID:69ef6be8-3cbe-11ec-94ae-0e891d80f75d
DTSTAMP:20211120T152400Z
SUMMARY:BOS Special Strategic Planning Committee Meeting
URL;VALUE=URI:https://www.lakestcharles.org/calendar/2865903/strategic-plan
 ning-committee-sept-2021-clone-clone
DTSTART:20211116T230000Z
DTEND:20211117T010000Z
ATTACH;FILENAME=2021-11-16 Agenda.pdf;FMTTYPE=application/pdf:https://campu
 ssuite-storage.s3.amazonaws.com/prod/1558814/4c63d158-ac98-11e9-859c-0af81
 b81c350/2344204/d7327212-44bc-11ec-a4e7-02c6b7342707/file/2021-11-16 Agend
 a.pdf
END:VEVENT
END:VCALENDAR
