BEGIN:VCALENDAR
VERSION:2.0
PRODID:SchoolNow
CALSCALE:GREGORIAN
BEGIN:VEVENT
UID:ee20f478-3cbd-11ec-9b16-0e891d80f75d
DTSTAMP:20211103T155138Z
SUMMARY:Treasurer's Review Meeting
URL;VALUE=URI:https://www.lakestcharles.org/calendar/2865891/treasurers-rev
 iew-mtg-sept-2021-clone-clone
DTSTART:20211116T160000Z
DTEND:20211116T170000Z
END:VEVENT
END:VCALENDAR
