BEGIN:VCALENDAR
VERSION:2.0
PRODID:SchoolNow
CALSCALE:GREGORIAN
BEGIN:VEVENT
UID:88894b6a-3cbd-11ec-b61d-0e891d80f75d
DTSTAMP:20211103T154847Z
SUMMARY:Management Committee Meeting
URL;VALUE=URI:https://www.lakestcharles.org/calendar/2865882/management-com
 mittee-sept-2021-clone-clone-clone
DTSTART:20211117T170000Z
DTEND:20211117T180000Z
END:VEVENT
END:VCALENDAR
