BEGIN:VCALENDAR
VERSION:2.0
PRODID:SchoolNow
CALSCALE:GREGORIAN
BEGIN:VEVENT
UID:d5f9e13a-3cbc-11ec-ab86-0e891d80f75d
DTSTAMP:20211103T154348Z
SUMMARY:LSC Fall Community Garage Sale
URL;VALUE=URI:https://www.lakestcharles.org/calendar/2865877/lsc-fall-commu
 nity-garage-sale
DTSTART:20211106T120000Z
DTEND:20211106T160000Z
END:VEVENT
END:VCALENDAR
