BEGIN:VCALENDAR
VERSION:2.0
PRODID:SchoolNow
CALSCALE:GREGORIAN
BEGIN:VEVENT
UID:76b86c62-25ee-11ec-b870-0ee9c95be5f3
DTSTAMP:20211005T151106Z
SUMMARY:Due Process Meeting
URL;VALUE=URI:https://www.lakestcharles.org/calendar/2792783/hoa-meeting-oc
 t-2021-clone-clone-clone
DTSTART:20211103T223000Z
DTEND:20211103T233000Z
END:VEVENT
END:VCALENDAR
