BEGIN:VCALENDAR
VERSION:2.0
PRODID:SchoolNow
CALSCALE:GREGORIAN
BEGIN:VEVENT
UID:6667a080-25ee-11ec-be06-0a394dd5d585
DTSTAMP:20211005T151039Z
SUMMARY:Due Process Meeting
URL;VALUE=URI:https://www.lakestcharles.org/calendar/2792782/hoa-meeting-oc
 t-2021-clone-clone
DTSTART:20211013T223000Z
DTEND:20211013T233000Z
END:VEVENT
END:VCALENDAR
