BEGIN:VCALENDAR
VERSION:2.0
PRODID:SchoolNow
CALSCALE:GREGORIAN
BEGIN:VEVENT
UID:ce3b443a-16f5-11ec-b6fd-021b524e21e3
DTSTAMP:20220613T175006Z
SUMMARY:HOA Meeting
URL;VALUE=URI:https://www.lakestcharles.org/calendar/2741448/hoa-meeting-oc
 t-2021-clone-clone-clone
DTSTART:20220613T223000Z
DTEND:20220613T233000Z
END:VEVENT
END:VCALENDAR
