BEGIN:VCALENDAR
VERSION:2.0
PRODID:SchoolNow
CALSCALE:GREGORIAN
BEGIN:VEVENT
UID:b2cfe55c-16f5-11ec-9a61-0efc48606f19
DTSTAMP:20220509T164737Z
SUMMARY:HOA Meeting
URL;VALUE=URI:https://www.lakestcharles.org/calendar/2741447/hoa-meeting-oc
 t-2021-clone-clone
DTSTART:20220509T223000Z
DTEND:20220509T233000Z
END:VEVENT
END:VCALENDAR
