BEGIN:VCALENDAR
VERSION:2.0
PRODID:SchoolNow
CALSCALE:GREGORIAN
BEGIN:VEVENT
UID:7d1ca56c-16f5-11ec-aaa6-028f280bab3f
DTSTAMP:20210916T155132Z
SUMMARY:HOA Meeting
URL;VALUE=URI:https://www.lakestcharles.org/calendar/2741442/cdd-board-meet
 ing-aug-2021-clone-clone-clone
DTSTART:20211213T233000Z
DTEND:20211214T003000Z
END:VEVENT
END:VCALENDAR
