BEGIN:VCALENDAR
VERSION:2.0
PRODID:SchoolNow
CALSCALE:GREGORIAN
BEGIN:VEVENT
UID:70bdd002-16f5-11ec-a8e7-0ee1fb209c35
DTSTAMP:20210916T135315Z
SUMMARY:HOA Meeting
URL;VALUE=URI:https://www.lakestcharles.org/calendar/2741441/hoa-meeting-oc
 t-2021-clone
DTSTART:20211108T233000Z
DTEND:20211109T003000Z
END:VEVENT
END:VCALENDAR
