BEGIN:VCALENDAR
VERSION:2.0
PRODID:SchoolNow
CALSCALE:GREGORIAN
BEGIN:VEVENT
UID:0944723a-1648-11ec-9470-0a80e2eb5f2d
DTSTAMP:20211102T220944Z
SUMMARY:CDD Board Meeting
URL;VALUE=URI:https://www.lakestcharles.org/calendar/2739141/cdd-board-meet
 ing-aug-2021-clone-clone
DTSTART:20211102T230000Z
DTEND:20211103T000000Z
ATTACH;FILENAME=2021-11-02 Supervisor Packet.pdf;FMTTYPE=application/pdf:ht
 tps://campussuite-storage.s3.amazonaws.com/prod/1558814/4c63d158-ac98-11e9
 -859c-0af81b81c350/2339107/5e0fbb24-3c29-11ec-9d89-0ab3286e60cb/file/2021-
 11-02 Supervisor Packet.pdf
ATTACH;FILENAME=2021-11-02 Agenda.pdf;FMTTYPE=application/pdf:https://campu
 ssuite-storage.s3.amazonaws.com/prod/1558814/4c63d158-ac98-11e9-859c-0af81
 b81c350/2338855/531631d4-3c11-11ec-b1ed-0e25d079651b/file/2021-11-02 Agend
 a.pdf
ATTACH;FILENAME=2021-10-05 BOS Meeting Minutes.pdf;FMTTYPE=application/pdf:
 https://campussuite-storage.s3.amazonaws.com/prod/1558814/4c63d158-ac98-11
 e9-859c-0af81b81c350/2339108/8c847cc4-3c29-11ec-9fae-0ab3286e60cb/file/202
 1-10-05 BOS Meeting Minutes.pdf
END:VEVENT
END:VCALENDAR
