BEGIN:VCALENDAR
VERSION:2.0
PRODID:SchoolNow
CALSCALE:GREGORIAN
BEGIN:VEVENT
UID:e9552bf4-1647-11ec-9d97-0abc9b6a40e5
DTSTAMP:20211001T191257Z
SUMMARY:CDD Board Meeting
URL;VALUE=URI:https://www.lakestcharles.org/calendar/2739140/cdd-board-meet
 ing-aug-2021-clone
DTSTART:20211005T230000Z
DTEND:20211006T000000Z
ATTACH;FILENAME=2021-10-05 Supervisor Packet.pdf;FMTTYPE=application/pdf:ht
 tps://campussuite-storage.s3.amazonaws.com/prod/1558814/4c63d158-ac98-11e9
 -859c-0af81b81c350/2323474/af5940f2-22ea-11ec-8f52-0e63cba66a77/file/2021-
 10-05 Supervisor Packet.pdf
ATTACH;FILENAME=2021-10-05 Agenda.pdf;FMTTYPE=application/pdf:https://campu
 ssuite-storage.s3.amazonaws.com/prod/1558814/4c63d158-ac98-11e9-859c-0af81
 b81c350/2323478/d3b3abc2-22ea-11ec-91e5-0ac0c25a0949/file/2021-10-05 Agend
 a.pdf
ATTACH;FILENAME=2021-09-14 BOS Meeting Minutes.pdf;FMTTYPE=application/pdf:
 https://campussuite-storage.s3.amazonaws.com/prod/1558814/4c63d158-ac98-11
 e9-859c-0af81b81c350/2323476/c43266d4-22ea-11ec-81bf-0a19fce3f49b/file/202
 1-09-14 BOS Meeting Minutes.pdf
END:VEVENT
END:VCALENDAR
