BEGIN:VCALENDAR
VERSION:2.0
PRODID:SchoolNow
CALSCALE:GREGORIAN
BEGIN:VEVENT
UID:11541c10-163d-11ec-a4d3-0ea708de9b65
DTSTAMP:20210915T165031Z
SUMMARY:4th Annual LSC Pumpkin Patch
URL;VALUE=URI:https://www.lakestcharles.org/calendar/2739056/4th-annual-lsc
 -pumpkin-patch
DTSTART:20211009T140000Z
DTEND:20211009T160000Z
END:VEVENT
END:VCALENDAR
