BEGIN:VCALENDAR
VERSION:2.0
PRODID:SchoolNow
CALSCALE:GREGORIAN
BEGIN:VEVENT
UID:3aec55b6-163c-11ec-a7c4-0a80e2eb5f2d
DTSTAMP:20210915T154728Z
SUMMARY:Morning Clubhouse Rental
URL;VALUE=URI:https://www.lakestcharles.org/calendar/2739055/morning-clubho
 use-rental-clone
DTSTART:20211010T120000Z
DTEND:20211010T190000Z
END:VEVENT
END:VCALENDAR
