BEGIN:VCALENDAR
VERSION:2.0
PRODID:SchoolNow
CALSCALE:GREGORIAN
BEGIN:VEVENT
UID:c2759ba6-163b-11ec-b888-0ea708de9b65
DTSTAMP:20210915T154406Z
SUMMARY:All Day Clubhouse Rental
URL;VALUE=URI:https://www.lakestcharles.org/calendar/2739054/all-day-clubho
 use-rental-clone-clone-clone-clone-clone-clone
DTSTART:20210926T120000Z
DTEND:20210927T020000Z
END:VEVENT
END:VCALENDAR
