BEGIN:VCALENDAR
VERSION:2.0
PRODID:SchoolNow
CALSCALE:GREGORIAN
BEGIN:VEVENT
UID:7351705e-163b-11ec-8a22-0ebc491299a1
DTSTAMP:20210915T154153Z
SUMMARY:Management Committee - Sept. 2021
URL;VALUE=URI:https://www.lakestcharles.org/calendar/2739052/management-com
 mittee-sept-2021-clone
DTSTART:20211021T170000Z
DTEND:20211021T180000Z
END:VEVENT
END:VCALENDAR
