BEGIN:VCALENDAR
VERSION:2.0
PRODID:SchoolNow
CALSCALE:GREGORIAN
BEGIN:VEVENT
UID:68174e16-163b-11ec-b761-02c4dc8da0cf
DTSTAMP:20210915T154134Z
SUMMARY:Treasurer's Review Mtg - Sept. 2021
URL;VALUE=URI:https://www.lakestcharles.org/calendar/2739051/treasurers-rev
 iew-mtg-sept-2021-clone
DTSTART:20211020T180000Z
DTEND:20211020T190000Z
END:VEVENT
END:VCALENDAR
