BEGIN:VCALENDAR
VERSION:2.0
PRODID:SchoolNow
CALSCALE:GREGORIAN
BEGIN:VEVENT
UID:6a33c23e-163a-11ec-95c2-028f280bab3f
DTSTAMP:20210915T153428Z
SUMMARY:Closed HOA Board Meeting
URL;VALUE=URI:https://www.lakestcharles.org/calendar/2739050/closed-hoa-boa
 rd-meeting
DTSTART:20210917T223000Z
DTEND:20210917T233000Z
END:VEVENT
END:VCALENDAR
