BEGIN:VCALENDAR
VERSION:2.0
PRODID:SchoolNow
CALSCALE:GREGORIAN
BEGIN:VEVENT
UID:34d3e470-ea2f-11eb-b637-0a4d4396b20b
DTSTAMP:20210721T142323Z
SUMMARY:All Day Clubhouse Rental
URL;VALUE=URI:https://www.lakestcharles.org/calendar/2644390/all-day-clubho
 use-rental-clone-clone-clone-clone-clone
DTSTART:20210925T120000Z
DTEND:20210926T020000Z
END:VEVENT
END:VCALENDAR
