BEGIN:VCALENDAR
VERSION:2.0
PRODID:SchoolNow
CALSCALE:GREGORIAN
BEGIN:VEVENT
UID:66482f12-ea2e-11eb-ac6a-0e4daf4baf0d
DTSTAMP:20210721T141737Z
SUMMARY:Evening Clubhouse Rental
URL;VALUE=URI:https://www.lakestcharles.org/calendar/2644389/all-day-clubho
 use-rental-clone-clone-clone
DTSTART:20210814T200000Z
DTEND:20210815T030000Z
END:VEVENT
END:VCALENDAR
