BEGIN:VCALENDAR
VERSION:2.0
PRODID:SchoolNow
CALSCALE:GREGORIAN
BEGIN:VEVENT
UID:4d21979a-ea2d-11eb-b014-02a4be7f71ad
DTSTAMP:20210721T140945Z
SUMMARY:All Day Clubhouse Rental
URL;VALUE=URI:https://www.lakestcharles.org/calendar/2644385/all-day-clubho
 use-rental-clone-clone-clone-clone
DTSTART:20210808T120000Z
DTEND:20210809T020000Z
END:VEVENT
END:VCALENDAR
