BEGIN:VCALENDAR
VERSION:2.0
PRODID:SchoolNow
CALSCALE:GREGORIAN
BEGIN:VEVENT
UID:2f5bcdf2-ea2d-11eb-9c2c-02a4be7f71ad
DTSTAMP:20210721T140855Z
SUMMARY:All Day Clubhouse Rental
URL;VALUE=URI:https://www.lakestcharles.org/calendar/2644384/all-day-clubho
 use-rental-clone-clone-clone
DTSTART:20210731T120000Z
DTEND:20210801T020000Z
END:VEVENT
END:VCALENDAR
