BEGIN:VCALENDAR
VERSION:2.0
PRODID:SchoolNow
CALSCALE:GREGORIAN
BEGIN:VEVENT
UID:0ff1aae4-c639-11eb-83ec-0a75e2af6d59
DTSTAMP:20210605T200314Z
SUMMARY:All Day Clubhouse Rental
URL;VALUE=URI:https://www.lakestcharles.org/calendar/2611935/all-day-clubho
 use-rental-clone-clone
DTSTART:20210724T120000Z
DTEND:20210725T020000Z
END:VEVENT
END:VCALENDAR
