BEGIN:VCALENDAR
VERSION:2.0
PRODID:SchoolNow
CALSCALE:GREGORIAN
BEGIN:VEVENT
UID:049e8572-c639-11eb-886f-0ec45ceaa3a3
DTSTAMP:20210605T200255Z
SUMMARY:All Day Clubhouse Rental
URL;VALUE=URI:https://www.lakestcharles.org/calendar/2611934/all-day-clubho
 use-rental-clone
DTSTART:20210619T120000Z
DTEND:20210620T020000Z
END:VEVENT
END:VCALENDAR
