BEGIN:VCALENDAR
VERSION:2.0
PRODID:SchoolNow
CALSCALE:GREGORIAN
BEGIN:VEVENT
UID:20e3d894-9e17-11eb-9aa3-0a0eb80742df
DTSTAMP:20210415T181933Z
SUMMARY:Community Shredding Event
URL;VALUE=URI:https://www.lakestcharles.org/calendar/2577741/community-shre
 dding-event
DTSTART:20210424T140000Z
DTEND:20210424T160000Z
END:VEVENT
END:VCALENDAR
