BEGIN:VCALENDAR
VERSION:2.0
PRODID:SchoolNow
CALSCALE:GREGORIAN
BEGIN:VEVENT
UID:3dba0946-34ba-11eb-93a6-1273a2f11541
DTSTAMP:20211009T184338Z
SUMMARY:HOA Meeting - Oct. 2021
URL;VALUE=URI:https://www.lakestcharles.org/calendar/2506849/hoa-meeting-oc
 t-2021
DTSTART:20211011T223000Z
DTEND:20211011T233000Z
END:VEVENT
END:VCALENDAR
