BEGIN:VCALENDAR
VERSION:2.0
PRODID:SchoolNow
CALSCALE:GREGORIAN
BEGIN:VEVENT
UID:33b2caaa-34ba-11eb-beb1-1273a2f11541
DTSTAMP:20210221T183237Z
SUMMARY:HOA Meeting - Sept. 2021
URL;VALUE=URI:https://www.lakestcharles.org/calendar/2506848/hoa-meeting-se
 pt-2021
DTSTART:20210913T223000Z
DTEND:20210913T233000Z
END:VEVENT
END:VCALENDAR
