BEGIN:VCALENDAR
VERSION:2.0
PRODID:SchoolNow
CALSCALE:GREGORIAN
BEGIN:VEVENT
UID:2a8eb376-34ba-11eb-ac8e-1273a2f11541
DTSTAMP:20210221T183045Z
SUMMARY:HOA Meeting - Aug. 2021
URL;VALUE=URI:https://www.lakestcharles.org/calendar/2506847/hoa-meeting-au
 g-2021
DTSTART:20210809T223000Z
DTEND:20210809T233000Z
END:VEVENT
END:VCALENDAR
