BEGIN:VCALENDAR
VERSION:2.0
PRODID:SchoolNow
CALSCALE:GREGORIAN
BEGIN:VEVENT
UID:232ffb76-34ba-11eb-a7d2-1273a2f11541
DTSTAMP:20210221T182733Z
SUMMARY:HOA Meeting - Jul. 2021
URL;VALUE=URI:https://www.lakestcharles.org/calendar/2506846/hoa-meeting-ju
 l-2021
DTSTART:20210712T223000Z
DTEND:20210712T233000Z
END:VEVENT
END:VCALENDAR
