BEGIN:VCALENDAR
VERSION:2.0
PRODID:SchoolNow
CALSCALE:GREGORIAN
BEGIN:VEVENT
UID:1bec2e5c-34ba-11eb-af58-1273a2f11541
DTSTAMP:20210221T182557Z
SUMMARY:HOA Meeting - Jun. 2021
URL;VALUE=URI:https://www.lakestcharles.org/calendar/2506845/hoa-meeting-ju
 n-2021
DTSTART:20210614T223000Z
DTEND:20210614T233000Z
END:VEVENT
END:VCALENDAR
