BEGIN:VCALENDAR
VERSION:2.0
PRODID:SchoolNow
CALSCALE:GREGORIAN
BEGIN:VEVENT
UID:142747ec-34ba-11eb-ad5f-1273a2f11541
DTSTAMP:20210221T182155Z
SUMMARY:HOA Meeting - May 2021
URL;VALUE=URI:https://www.lakestcharles.org/calendar/2506844/hoa-meeting-ma
 y-2021
DTSTART:20210510T223000Z
DTEND:20210510T233000Z
END:VEVENT
END:VCALENDAR
