BEGIN:VCALENDAR
VERSION:2.0
PRODID:SchoolNow
CALSCALE:GREGORIAN
BEGIN:VEVENT
UID:0cfa8ff6-34ba-11eb-8fed-1273a2f11541
DTSTAMP:20210221T181643Z
SUMMARY:HOA Meeting - Apr. 2021
URL;VALUE=URI:https://www.lakestcharles.org/calendar/2506843/hoa-meeting-ap
 r-2021
DTSTART:20210412T223000Z
DTEND:20210412T233000Z
END:VEVENT
END:VCALENDAR
