BEGIN:VCALENDAR
VERSION:2.0
PRODID:SchoolNow
CALSCALE:GREGORIAN
BEGIN:VEVENT
UID:05f07568-34ba-11eb-81c2-1273a2f11541
DTSTAMP:20210221T181150Z
SUMMARY:HOA Meeting - Mar. 2021
URL;VALUE=URI:https://www.lakestcharles.org/calendar/2506842/hoa-meeting-ma
 r-2021
DTSTART:20210308T233000Z
DTEND:20210309T003000Z
END:VEVENT
END:VCALENDAR
