BEGIN:VCALENDAR
VERSION:2.0
PRODID:SchoolNow
CALSCALE:GREGORIAN
BEGIN:VEVENT
UID:fecba56e-34b9-11eb-b116-1273a2f11541
DTSTAMP:20210221T183833Z
SUMMARY:HOA Meeting - Feb. 2021
URL;VALUE=URI:https://www.lakestcharles.org/calendar/2506841/hoa-meeting-fe
 b-2021
DTSTART:20210208T233000Z
DTEND:20210209T003000Z
END:VEVENT
END:VCALENDAR
