BEGIN:VCALENDAR
VERSION:2.0
PRODID:SchoolNow
CALSCALE:GREGORIAN
BEGIN:VEVENT
UID:f5a584c8-34b9-11eb-b1d4-1273a2f11541
DTSTAMP:20210221T184059Z
SUMMARY:HOA Meeting - Jan. 2021
URL;VALUE=URI:https://www.lakestcharles.org/calendar/2506840/hoa-meeting-ja
 n-2021
DTSTART:20210111T233000Z
DTEND:20210112T003000Z
END:VEVENT
END:VCALENDAR
