BEGIN:VCALENDAR
VERSION:2.0
PRODID:SchoolNow
CALSCALE:GREGORIAN
BEGIN:VEVENT
UID:e4fc62be-28fb-11eb-be54-1295029bab25
DTSTAMP:20210221T183411Z
SUMMARY:Management Committee - Sept. 2021
URL;VALUE=URI:https://www.lakestcharles.org/calendar/2498613/management-com
 mittee-sept-2021
DTSTART:20210916T170000Z
DTEND:20210916T180000Z
END:VEVENT
END:VCALENDAR
