BEGIN:VCALENDAR
VERSION:2.0
PRODID:SchoolNow
CALSCALE:GREGORIAN
BEGIN:VEVENT
UID:dc978fa4-28fb-11eb-8d54-1295029bab25
DTSTAMP:20210221T183214Z
SUMMARY:Management Committee - Aug. 2021
URL;VALUE=URI:https://www.lakestcharles.org/calendar/2498611/management-com
 mittee-aug-2021
DTSTART:20210819T170000Z
DTEND:20210819T180000Z
END:VEVENT
END:VCALENDAR
