BEGIN:VCALENDAR
VERSION:2.0
PRODID:SchoolNow
CALSCALE:GREGORIAN
BEGIN:VEVENT
UID:d444e1a8-28fb-11eb-bbd6-1295029bab25
DTSTAMP:20210221T182833Z
SUMMARY:Management Committee - Jul. 2021
URL;VALUE=URI:https://www.lakestcharles.org/calendar/2498610/management-com
 mittee-jul-2021
DTSTART:20210715T170000Z
DTEND:20210715T180000Z
END:VEVENT
END:VCALENDAR
