BEGIN:VCALENDAR
VERSION:2.0
PRODID:SchoolNow
CALSCALE:GREGORIAN
BEGIN:VEVENT
UID:cd02ba28-28fb-11eb-b542-1295029bab25
DTSTAMP:20210221T182707Z
SUMMARY:Management Committee - Jun. 2021
URL;VALUE=URI:https://www.lakestcharles.org/calendar/2498609/management-com
 mittee-jun-2021
DTSTART:20210617T170000Z
DTEND:20210617T180000Z
END:VEVENT
END:VCALENDAR
