BEGIN:VCALENDAR
VERSION:2.0
PRODID:SchoolNow
CALSCALE:GREGORIAN
BEGIN:VEVENT
UID:c49fefae-28fb-11eb-af4a-1295029bab25
DTSTAMP:20210221T182334Z
SUMMARY:Management Committee - May 2021
URL;VALUE=URI:https://www.lakestcharles.org/calendar/2498608/management-com
 mittee-may-2021
DTSTART:20210520T170000Z
DTEND:20210520T180000Z
END:VEVENT
END:VCALENDAR
